BEGIN:VCALENDAR
VERSION:2.0
PRODID:-//Alcoólicos Anónimos Portugal - ECPv6.15.20//NONSGML v1.0//EN
CALSCALE:GREGORIAN
METHOD:PUBLISH
X-ORIGINAL-URL:https://aaportugal.org
X-WR-CALDESC:Eventos para Alcoólicos Anónimos Portugal
REFRESH-INTERVAL;VALUE=DURATION:PT1H
X-Robots-Tag:noindex
X-PUBLISHED-TTL:PT1H
BEGIN:VTIMEZONE
TZID:Europe/Lisbon
BEGIN:DAYLIGHT
TZOFFSETFROM:+0000
TZOFFSETTO:+0100
TZNAME:WEST
DTSTART:20240331T010000
END:DAYLIGHT
BEGIN:STANDARD
TZOFFSETFROM:+0100
TZOFFSETTO:+0000
TZNAME:WET
DTSTART:20241027T010000
END:STANDARD
BEGIN:DAYLIGHT
TZOFFSETFROM:+0000
TZOFFSETTO:+0100
TZNAME:WEST
DTSTART:20250330T010000
END:DAYLIGHT
BEGIN:STANDARD
TZOFFSETFROM:+0100
TZOFFSETTO:+0000
TZNAME:WET
DTSTART:20251026T010000
END:STANDARD
BEGIN:DAYLIGHT
TZOFFSETFROM:+0000
TZOFFSETTO:+0100
TZNAME:WEST
DTSTART:20260329T010000
END:DAYLIGHT
BEGIN:STANDARD
TZOFFSETFROM:+0100
TZOFFSETTO:+0000
TZNAME:WET
DTSTART:20261025T010000
END:STANDARD
END:VTIMEZONE
BEGIN:VEVENT
DTSTART;TZID=Europe/Lisbon:20251122T173000
DTEND;TZID=Europe/Lisbon:20251122T190000
DTSTAMP:20260419T164951
CREATED:20251104T213751Z
LAST-MODIFIED:20251106T094133Z
UID:10000353-1763832600-1763838000@aaportugal.org
SUMMARY:Aniversário: Grupo de Valbom - Reunião Aberta
DESCRIPTION:
URL:https://aaportugal.org/event/valbom-aniversary-meeting/
LOCATION:Grupo Valbom\, Paróquia de S. Veríssimo de Valbom\, Rua Clube Naval Infante D. Henrique\, 505\, Valbom\, 4420-412\, Portugal
END:VEVENT
END:VCALENDAR