BEGIN:VCALENDAR
VERSION:2.0
PRODID:-//Alcoólicos Anónimos Portugal - ECPv6.15.20//NONSGML v1.0//EN
CALSCALE:GREGORIAN
METHOD:PUBLISH
X-WR-CALNAME:Alcoólicos Anónimos Portugal
X-ORIGINAL-URL:https://aaportugal.org
X-WR-CALDESC:Eventos para Alcoólicos Anónimos Portugal
REFRESH-INTERVAL;VALUE=DURATION:PT1H
X-Robots-Tag:noindex
X-PUBLISHED-TTL:PT1H
BEGIN:VTIMEZONE
TZID:UTC
BEGIN:STANDARD
TZOFFSETFROM:+0000
TZOFFSETTO:+0000
TZNAME:UTC
DTSTART:20220101T000000
END:STANDARD
END:VTIMEZONE
BEGIN:VEVENT
DTSTART;TZID=UTC:20230520T000000
DTEND;TZID=UTC:20230520T000000
DTSTAMP:20260423T211156
CREATED:20251007T014617Z
LAST-MODIFIED:20251007T014617Z
UID:10000333-1684540800-1684540800@aaportugal.org
SUMMARY:Reunião Temática - "Aqueles que Ainda Sofrem"
DESCRIPTION:
URL:https://aaportugal.org/event/reuniao-tematica-aqueles-que-ainda-sofrem/
END:VEVENT
BEGIN:VEVENT
DTSTART;TZID=UTC:20230517T000000
DTEND;TZID=UTC:20230517T000000
DTSTAMP:20260423T211156
CREATED:20251007T014416Z
LAST-MODIFIED:20251007T014416Z
UID:10000331-1684281600-1684281600@aaportugal.org
SUMMARY:Reunião Aberta - 26º Aniversário do Grupo
DESCRIPTION:
URL:https://aaportugal.org/event/reuniao-aberta-26o-aniversario-do-grupo/
END:VEVENT
BEGIN:VEVENT
DTSTART;TZID=UTC:20230513T000000
DTEND;TZID=UTC:20230513T000000
DTSTAMP:20260423T211156
CREATED:20251007T014416Z
LAST-MODIFIED:20251007T014416Z
UID:10000330-1683936000-1683936000@aaportugal.org
SUMMARY:Jornada de Trabalho Informação Pública
DESCRIPTION:
URL:https://aaportugal.org/event/jornada-de-trabalho-informacao-publica-2/
END:VEVENT
BEGIN:VEVENT
DTSTART;TZID=UTC:20230511T000000
DTEND;TZID=UTC:20230511T000000
DTSTAMP:20260423T211156
CREATED:20251007T014416Z
LAST-MODIFIED:20251007T014416Z
UID:10000329-1683763200-1683763200@aaportugal.org
SUMMARY:31º Aniversário do Grupo de Setúbal - Reunião Pública
DESCRIPTION:
URL:https://aaportugal.org/event/31o-aniversario-do-grupo-de-setubal-reuniao-publica/
END:VEVENT
BEGIN:VEVENT
DTSTART;TZID=UTC:20230506T000000
DTEND;TZID=UTC:20230506T000000
DTSTAMP:20260423T211156
CREATED:20251007T014416Z
LAST-MODIFIED:20251007T014416Z
UID:10000327-1683331200-1683331200@aaportugal.org
SUMMARY:Jornada de Trabalho "Apadrinhamento em Serviço"
DESCRIPTION:
URL:https://aaportugal.org/event/jornada-de-trabalho-apadrinhamento-em-servico/
END:VEVENT
BEGIN:VEVENT
DTSTART;TZID=UTC:20230506T000000
DTEND;TZID=UTC:20230506T000000
DTSTAMP:20260423T211156
CREATED:20251007T014416Z
LAST-MODIFIED:20251007T014416Z
UID:10000328-1683331200-1683331200@aaportugal.org
SUMMARY:"Este Novo Modo de Vida"-Grupo Recuperação Online
DESCRIPTION:
URL:https://aaportugal.org/event/este-novo-modo-de-vida-grupo-recuperacao-online/
END:VEVENT
BEGIN:VEVENT
DTSTART;TZID=UTC:20230502T000000
DTEND;TZID=UTC:20230502T000000
DTSTAMP:20260423T211156
CREATED:20251007T014215Z
LAST-MODIFIED:20251007T014215Z
UID:10000326-1682985600-1682985600@aaportugal.org
SUMMARY:1º Aniversário do Grupo "Ponte para a Serenidade"
DESCRIPTION:
URL:https://aaportugal.org/event/1o-aniversario-do-grupo-ponte-para-a-serenidade/
END:VEVENT
BEGIN:VEVENT
DTSTART;TZID=UTC:20230429T000000
DTEND;TZID=UTC:20230429T000000
DTSTAMP:20260423T211156
CREATED:20251007T014215Z
LAST-MODIFIED:20251007T014215Z
UID:10000325-1682726400-1682726400@aaportugal.org
SUMMARY:Jornada de Reflexão sobre “A importância das Tradições na Informação Pública” - Áreas 7 e 12
DESCRIPTION:
URL:https://aaportugal.org/event/jornada-de-reflexao-sobre-a-importancia-das-tradicoes-na-informacao-publica-areas-7-e-12/
END:VEVENT
BEGIN:VEVENT
DTSTART;TZID=UTC:20230422T000000
DTEND;TZID=UTC:20230422T000000
DTSTAMP:20260423T211156
CREATED:20251007T014215Z
LAST-MODIFIED:20251007T014215Z
UID:10000324-1682121600-1682121600@aaportugal.org
SUMMARY:"O Caminho para a Área 13 - Grupo Recuperação Online
DESCRIPTION:
URL:https://aaportugal.org/event/o-caminho-para-a-area-13-grupo-recuperacao-online/
END:VEVENT
BEGIN:VEVENT
DTSTART;TZID=UTC:20230404T000000
DTEND;TZID=UTC:20230404T000000
DTSTAMP:20260423T211156
CREATED:20251007T014215Z
LAST-MODIFIED:20251007T014215Z
UID:10000323-1680566400-1680566400@aaportugal.org
SUMMARY:30º aniversário - Grupo "Junta-te aos Vencedores" de Sto. António dos Cavaleiros
DESCRIPTION:
URL:https://aaportugal.org/event/30o-aniversario-grupo-junta-te-aos-vencedores-de-sto-antonio-dos-cavaleiros/
END:VEVENT
BEGIN:VEVENT
DTSTART;TZID=UTC:20230401T000000
DTEND;TZID=UTC:20230401T000000
DTSTAMP:20260423T211156
CREATED:20251007T014215Z
LAST-MODIFIED:20251007T014215Z
UID:10000322-1680307200-1680307200@aaportugal.org
SUMMARY:"A Pedra Angular - O Terceiro Passo de Alcoólicos Anónimos" - Grupo Recuperação Online
DESCRIPTION:
URL:https://aaportugal.org/event/a-pedra-angular-o-terceiro-passo-de-alcoolicos-anonimos-grupo-recuperacao-online/
END:VEVENT
BEGIN:VEVENT
DTSTART;TZID=UTC:20230325T000000
DTEND;TZID=UTC:20230325T000000
DTSTAMP:20260423T211156
CREATED:20251007T014014Z
LAST-MODIFIED:20251007T014014Z
UID:10000321-1679702400-1679702400@aaportugal.org
SUMMARY:7º Aniversário do Grupo da Quinta da Lomba-"Alegria em Recuperação"
DESCRIPTION:
URL:https://aaportugal.org/event/7o-aniversario-do-grupo-da-quinta-da-lomba-alegria-em-recuperacao/
END:VEVENT
BEGIN:VEVENT
DTSTART;TZID=UTC:20230319T000000
DTEND;TZID=UTC:20230319T000000
DTSTAMP:20260423T211156
CREATED:20251007T014014Z
LAST-MODIFIED:20251007T014014Z
UID:10000319-1679184000-1679184000@aaportugal.org
SUMMARY:19 de Março - Dia Nacional de Alcoólicos Anónimos - Área 2
DESCRIPTION:
URL:https://aaportugal.org/event/19-de-marco-dia-nacional-de-alcoolicos-anonimos-area-2/
END:VEVENT
BEGIN:VEVENT
DTSTART;TZID=UTC:20230319T000000
DTEND;TZID=UTC:20230319T000000
DTSTAMP:20260423T211156
CREATED:20251007T014014Z
LAST-MODIFIED:20251007T014014Z
UID:10000320-1679184000-1679184000@aaportugal.org
SUMMARY:"Os Bons Veteranos" - Grupo Ponte para a Serenidade
DESCRIPTION:
URL:https://aaportugal.org/event/os-bons-veteranos-grupo-ponte-para-a-serenidade/
END:VEVENT
BEGIN:VEVENT
DTSTART;TZID=UTC:20230318T000000
DTEND;TZID=UTC:20230318T000000
DTSTAMP:20260423T211156
CREATED:20251007T014014Z
LAST-MODIFIED:20251007T014014Z
UID:10000317-1679097600-1679097600@aaportugal.org
SUMMARY:Jornada de Reflexão "Estrutura de Serviço de AA" - Área 7
DESCRIPTION:
URL:https://aaportugal.org/event/jornada-de-reflexao-estrutura-de-servico-de-aa-area-7/
END:VEVENT
BEGIN:VEVENT
DTSTART;TZID=UTC:20230318T000000
DTEND;TZID=UTC:20230318T000000
DTSTAMP:20260423T211156
CREATED:20251007T014014Z
LAST-MODIFIED:20251007T014014Z
UID:10000318-1679097600-1679097600@aaportugal.org
SUMMARY:"O Bater do Coração de Alcoólicos Anónimos" - Grupo Recuperação Online
DESCRIPTION:
URL:https://aaportugal.org/event/o-bater-do-coracao-de-alcoolicos-anonimos-grupo-recuperacao-online/
END:VEVENT
BEGIN:VEVENT
DTSTART;TZID=UTC:20230318T000000
DTEND;TZID=UTC:20230318T000000
DTSTAMP:20260423T211156
CREATED:20251007T013814Z
LAST-MODIFIED:20251007T013814Z
UID:10000316-1679097600-1679097600@aaportugal.org
SUMMARY:12º Aniversário da Área 12
DESCRIPTION:
URL:https://aaportugal.org/event/12o-aniversario-da-area-12/
END:VEVENT
BEGIN:VEVENT
DTSTART;TZID=UTC:20230317T000000
DTEND;TZID=UTC:20230317T000000
DTSTAMP:20260423T211156
CREATED:20251007T013814Z
LAST-MODIFIED:20251007T013814Z
UID:10000315-1679011200-1679011200@aaportugal.org
SUMMARY:9º Aniversário do Grupo de Massamá - "Um dia de cada vez"
DESCRIPTION:
URL:https://aaportugal.org/event/9o-aniversario-do-grupo-de-massama-um-dia-de-cada-vez/
END:VEVENT
BEGIN:VEVENT
DTSTART;TZID=UTC:20230309T000000
DTEND;TZID=UTC:20230309T000000
DTSTAMP:20260423T211156
CREATED:20251007T013814Z
LAST-MODIFIED:20251007T013814Z
UID:10000314-1678320000-1678320000@aaportugal.org
SUMMARY:"As Promessas"
DESCRIPTION:
URL:https://aaportugal.org/event/as-promessas-2/
END:VEVENT
BEGIN:VEVENT
DTSTART;TZID=UTC:20230305T000000
DTEND;TZID=UTC:20230305T000000
DTSTAMP:20260423T211156
CREATED:20251007T013814Z
LAST-MODIFIED:20251007T013814Z
UID:10000313-1677974400-1677974400@aaportugal.org
SUMMARY:18º Aniversário do Grupo das Antas
DESCRIPTION:
URL:https://aaportugal.org/event/18o-aniversario-do-grupo-das-antas/
END:VEVENT
BEGIN:VEVENT
DTSTART;TZID=UTC:20230304T000000
DTEND;TZID=UTC:20230304T000000
DTSTAMP:20260423T211156
CREATED:20251007T013813Z
LAST-MODIFIED:20251007T013813Z
UID:10000312-1677888000-1677888000@aaportugal.org
SUMMARY:"As Promessas"
DESCRIPTION:
URL:https://aaportugal.org/event/as-promessas/
END:VEVENT
BEGIN:VEVENT
DTSTART;TZID=UTC:20230227T000000
DTEND;TZID=UTC:20230227T000000
DTSTAMP:20260423T211156
CREATED:20251007T013706Z
LAST-MODIFIED:20251007T013706Z
UID:10000311-1677456000-1677456000@aaportugal.org
SUMMARY:22º Aniversário do Grupo de Odivelas - "Viemos a Acreditar"
DESCRIPTION:
URL:https://aaportugal.org/event/22o-aniversario-do-grupo-de-odivelas-viemos-a-acreditar/
END:VEVENT
BEGIN:VEVENT
DTSTART;TZID=UTC:20230226T000000
DTEND;TZID=UTC:20230226T000000
DTSTAMP:20260423T211156
CREATED:20251007T013706Z
LAST-MODIFIED:20251007T013706Z
UID:10000308-1677369600-1677369600@aaportugal.org
SUMMARY:XXVI Fórum Nacional de Serviço
DESCRIPTION:
URL:https://aaportugal.org/event/xxvi-forum-nacional-de-servico/
END:VEVENT
BEGIN:VEVENT
DTSTART;TZID=UTC:20230226T000000
DTEND;TZID=UTC:20230226T000000
DTSTAMP:20260423T211156
CREATED:20251007T013706Z
LAST-MODIFIED:20251007T013706Z
UID:10000309-1677369600-1677369600@aaportugal.org
SUMMARY:XXVI Fórum Nacional de Serviço
DESCRIPTION:
URL:https://aaportugal.org/event/xxvi-forum-nacional-de-servico-2/
END:VEVENT
BEGIN:VEVENT
DTSTART;TZID=UTC:20230226T000000
DTEND;TZID=UTC:20230226T000000
DTSTAMP:20260423T211156
CREATED:20251007T013706Z
LAST-MODIFIED:20251007T013706Z
UID:10000310-1677369600-1677369600@aaportugal.org
SUMMARY:XXVI Fórum Nacional de Serviço
DESCRIPTION:
URL:https://aaportugal.org/event/xxvi-forum-nacional-de-servico-3/
END:VEVENT
BEGIN:VEVENT
DTSTART;TZID=UTC:20230211T000000
DTEND;TZID=UTC:20230211T000000
DTSTAMP:20260423T211156
CREATED:20251007T013706Z
LAST-MODIFIED:20251007T013706Z
UID:10000307-1676073600-1676073600@aaportugal.org
SUMMARY:Jornada de Reflexão "O Serviço de 12º Passo"
DESCRIPTION:
URL:https://aaportugal.org/event/jornada-de-reflexao-o-servico-de-12o-passo/
END:VEVENT
BEGIN:VEVENT
DTSTART;TZID=UTC:20230206T000000
DTEND;TZID=UTC:20230206T000000
DTSTAMP:20260423T211156
CREATED:20251007T013505Z
LAST-MODIFIED:20251007T013505Z
UID:10000306-1675641600-1675641600@aaportugal.org
SUMMARY:Reunião Pública-3º Aniversário do Grupo Recuperação Online
DESCRIPTION:
URL:https://aaportugal.org/event/reuniao-publica-3o-aniversario-do-grupo-recuperacao-online/
END:VEVENT
BEGIN:VEVENT
DTSTART;TZID=UTC:20230204T000000
DTEND;TZID=UTC:20230204T000000
DTSTAMP:20260423T211156
CREATED:20251007T013505Z
LAST-MODIFIED:20251007T013505Z
UID:10000304-1675468800-1675468800@aaportugal.org
SUMMARY:"Levar a Mensagem" - Grupo RecuperaçãoOnline
DESCRIPTION:
URL:https://aaportugal.org/event/levar-a-mensagem-grupo-recuperacaoonline/
END:VEVENT
BEGIN:VEVENT
DTSTART;TZID=UTC:20230204T000000
DTEND;TZID=UTC:20230204T000000
DTSTAMP:20260423T211156
CREATED:20251007T013505Z
LAST-MODIFIED:20251007T013505Z
UID:10000305-1675468800-1675468800@aaportugal.org
SUMMARY:Reunião Aberta Pública-28º Aniversário do Grupo de Vila Franca de Xira
DESCRIPTION:
URL:https://aaportugal.org/event/reuniao-aberta-publica-28o-aniversario-do-grupo-de-vila-franca-de-xira/
END:VEVENT
BEGIN:VEVENT
DTSTART;TZID=UTC:20230201T000000
DTEND;TZID=UTC:20230201T000000
DTSTAMP:20260423T211156
CREATED:20251007T013505Z
LAST-MODIFIED:20251007T013505Z
UID:10000303-1675209600-1675209600@aaportugal.org
SUMMARY:Reunião Aberta - 34º Aniversário do Grupo de Mte. Abraão
DESCRIPTION:
URL:https://aaportugal.org/event/reuniao-aberta-34o-aniversario-do-grupo-de-mte-abraao/
END:VEVENT
END:VCALENDAR