BEGIN:VCALENDAR
VERSION:2.0
PRODID:-//Alcoólicos Anónimos Portugal - ECPv6.15.20//NONSGML v1.0//EN
CALSCALE:GREGORIAN
METHOD:PUBLISH
X-WR-CALNAME:Alcoólicos Anónimos Portugal
X-ORIGINAL-URL:https://aaportugal.org
X-WR-CALDESC:Eventos para Alcoólicos Anónimos Portugal
REFRESH-INTERVAL;VALUE=DURATION:PT1H
X-Robots-Tag:noindex
X-PUBLISHED-TTL:PT1H
BEGIN:VTIMEZONE
TZID:UTC
BEGIN:STANDARD
TZOFFSETFROM:+0000
TZOFFSETTO:+0000
TZNAME:UTC
DTSTART:20210101T000000
END:STANDARD
END:VTIMEZONE
BEGIN:VEVENT
DTSTART;TZID=UTC:20220924T000000
DTEND;TZID=UTC:20220924T000000
DTSTAMP:20260424T051012
CREATED:20251007T012540Z
LAST-MODIFIED:20251007T012540Z
UID:10000272-1663977600-1663977600@aaportugal.org
SUMMARY:Humildade e o Programa de AA
DESCRIPTION:
URL:https://aaportugal.org/event/humildade-e-o-programa-de-aa/
END:VEVENT
BEGIN:VEVENT
DTSTART;TZID=UTC:20220917T000000
DTEND;TZID=UTC:20220917T000000
DTSTAMP:20260424T051012
CREATED:20251007T012339Z
LAST-MODIFIED:20251007T012339Z
UID:10000270-1663372800-1663372800@aaportugal.org
SUMMARY:Visita a Stepping Stones
DESCRIPTION:
URL:https://aaportugal.org/event/visita-a-stepping-stones/
END:VEVENT
BEGIN:VEVENT
DTSTART;TZID=UTC:20220917T000000
DTEND;TZID=UTC:20220917T000000
DTSTAMP:20260424T051012
CREATED:20251007T012339Z
LAST-MODIFIED:20251007T012339Z
UID:10000271-1663372800-1663372800@aaportugal.org
SUMMARY:Visita Virtual a Stepping Stones
DESCRIPTION:
URL:https://aaportugal.org/event/visita-virtual-a-stepping-stones/
END:VEVENT
BEGIN:VEVENT
DTSTART;TZID=UTC:20220910T000000
DTEND;TZID=UTC:20220910T000000
DTSTAMP:20260424T051012
CREATED:20251007T012339Z
LAST-MODIFIED:20251007T012339Z
UID:10000269-1662768000-1662768000@aaportugal.org
SUMMARY:Os Slogans de AA
DESCRIPTION:
URL:https://aaportugal.org/event/os-slogans-de-aa/
END:VEVENT
BEGIN:VEVENT
DTSTART;TZID=UTC:20220901T000000
DTEND;TZID=UTC:20220901T000000
DTSTAMP:20260424T051012
CREATED:20251007T012339Z
LAST-MODIFIED:20251007T012339Z
UID:10000268-1661990400-1661990400@aaportugal.org
SUMMARY:Grupo “As 12 Tradições” - 25º aniversário
DESCRIPTION:
URL:https://aaportugal.org/event/grupo-as-12-tradicoes-25o-aniversario/
END:VEVENT
BEGIN:VEVENT
DTSTART;TZID=UTC:20220827T000000
DTEND;TZID=UTC:20220827T000000
DTSTAMP:20260424T051012
CREATED:20251007T012339Z
LAST-MODIFIED:20251007T012339Z
UID:10000267-1661558400-1661558400@aaportugal.org
SUMMARY:Amor e Recuperação
DESCRIPTION:
URL:https://aaportugal.org/event/amor-e-recuperacao-2/
END:VEVENT
BEGIN:VEVENT
DTSTART;TZID=UTC:20220813T000000
DTEND;TZID=UTC:20220813T000000
DTSTAMP:20260424T051012
CREATED:20251007T012138Z
LAST-MODIFIED:20251007T012138Z
UID:10000266-1660348800-1660348800@aaportugal.org
SUMMARY:Fizemos Reparações...
DESCRIPTION:
URL:https://aaportugal.org/event/fizemos-reparacoes/
END:VEVENT
BEGIN:VEVENT
DTSTART;TZID=UTC:20220807T000000
DTEND;TZID=UTC:20220807T000000
DTSTAMP:20260424T051012
CREATED:20251007T012138Z
LAST-MODIFIED:20251007T012138Z
UID:10000265-1659830400-1659830400@aaportugal.org
SUMMARY:Grupo “Gratidão" - 20º aniversário
DESCRIPTION:
URL:https://aaportugal.org/event/grupo-gratidao-20o-aniversario/
END:VEVENT
BEGIN:VEVENT
DTSTART;TZID=UTC:20220730T000000
DTEND;TZID=UTC:20220730T000000
DTSTAMP:20260424T051012
CREATED:20251007T012138Z
LAST-MODIFIED:20251007T012138Z
UID:10000264-1659139200-1659139200@aaportugal.org
SUMMARY:Como venho Aprendendo a Confiar
DESCRIPTION:
URL:https://aaportugal.org/event/como-venho-aprendendo-a-confiar/
END:VEVENT
BEGIN:VEVENT
DTSTART;TZID=UTC:20220716T000000
DTEND;TZID=UTC:20220716T000000
DTSTAMP:20260424T051013
CREATED:20251007T012138Z
LAST-MODIFIED:20251007T012138Z
UID:10000263-1657929600-1657929600@aaportugal.org
SUMMARY:Físico e Online - O mesmo Propósito
DESCRIPTION:
URL:https://aaportugal.org/event/fisico-e-online-o-mesmo-proposito/
END:VEVENT
BEGIN:VEVENT
DTSTART;TZID=UTC:20220715T000000
DTEND;TZID=UTC:20220715T000000
DTSTAMP:20260424T051013
CREATED:20251007T012138Z
LAST-MODIFIED:20251007T012138Z
UID:10000262-1657843200-1657843200@aaportugal.org
SUMMARY:2º Aniversário do Grupo de Mulheres Online
DESCRIPTION:
URL:https://aaportugal.org/event/2o-aniversario-do-grupo-de-mulheres-online/
END:VEVENT
BEGIN:VEVENT
DTSTART;TZID=UTC:20220702T000000
DTEND;TZID=UTC:20220702T000000
DTSTAMP:20260424T051013
CREATED:20251007T012122Z
LAST-MODIFIED:20251007T012122Z
UID:10000260-1656720000-1656720000@aaportugal.org
SUMMARY:Convívio de verão da Área 7
DESCRIPTION:
URL:https://aaportugal.org/event/convivio-de-verao-da-area-7/
END:VEVENT
BEGIN:VEVENT
DTSTART;TZID=UTC:20220702T000000
DTEND;TZID=UTC:20220702T000000
DTSTAMP:20260424T051013
CREATED:20251007T012122Z
LAST-MODIFIED:20251007T012122Z
UID:10000261-1656720000-1656720000@aaportugal.org
SUMMARY:O Anonimato como Alicerce Espiritual
DESCRIPTION:
URL:https://aaportugal.org/event/o-anonimato-como-alicerce-espiritual/
END:VEVENT
BEGIN:VEVENT
DTSTART;TZID=UTC:20220701T000000
DTEND;TZID=UTC:20220701T000000
DTSTAMP:20260424T051013
CREATED:20251007T012122Z
LAST-MODIFIED:20251007T012122Z
UID:10000259-1656633600-1656633600@aaportugal.org
SUMMARY:2º Aniversário do Grupo 36 Online
DESCRIPTION:
URL:https://aaportugal.org/event/2o-aniversario-do-grupo-36-online/
END:VEVENT
BEGIN:VEVENT
DTSTART;TZID=UTC:20220627T000000
DTEND;TZID=UTC:20220627T000000
DTSTAMP:20260424T051013
CREATED:20251007T012122Z
LAST-MODIFIED:20251007T012122Z
UID:10000258-1656288000-1656288000@aaportugal.org
SUMMARY:Reunião Pública - Setúbal
DESCRIPTION:
URL:https://aaportugal.org/event/reuniao-publica-setubal/
END:VEVENT
BEGIN:VEVENT
DTSTART;TZID=UTC:20220618T000000
DTEND;TZID=UTC:20220618T000000
DTSTAMP:20260424T051013
CREATED:20251007T012122Z
LAST-MODIFIED:20251007T012122Z
UID:10000257-1655510400-1655510400@aaportugal.org
SUMMARY:Amor e Recuperação
DESCRIPTION:
URL:https://aaportugal.org/event/amor-e-recuperacao/
END:VEVENT
BEGIN:VEVENT
DTSTART;TZID=UTC:20220610T000000
DTEND;TZID=UTC:20220610T000000
DTSTAMP:20260424T051013
CREATED:20251007T012049Z
LAST-MODIFIED:20251007T012049Z
UID:10000253-1654819200-1654819200@aaportugal.org
SUMMARY:Dia Mundial de Alcoólicos Anónimos
DESCRIPTION:
URL:https://aaportugal.org/event/dia-mundial-de-alcoolicos-anonimos/
END:VEVENT
BEGIN:VEVENT
DTSTART;TZID=UTC:20220610T000000
DTEND;TZID=UTC:20220610T000000
DTSTAMP:20260424T051013
CREATED:20251007T012049Z
LAST-MODIFIED:20251007T012049Z
UID:10000254-1654819200-1654819200@aaportugal.org
SUMMARY:Reunião Aberta - Convívio
DESCRIPTION:
URL:https://aaportugal.org/event/reuniao-aberta-convivio/
END:VEVENT
BEGIN:VEVENT
DTSTART;TZID=UTC:20220610T000000
DTEND;TZID=UTC:20220610T000000
DTSTAMP:20260424T051013
CREATED:20251007T012049Z
LAST-MODIFIED:20251007T012049Z
UID:10000255-1654819200-1654819200@aaportugal.org
SUMMARY:Reunião Aberta
DESCRIPTION:
URL:https://aaportugal.org/event/reuniao-aberta-25/
END:VEVENT
BEGIN:VEVENT
DTSTART;TZID=UTC:20220610T000000
DTEND;TZID=UTC:20220610T000000
DTSTAMP:20260424T051013
CREATED:20251007T012049Z
LAST-MODIFIED:20251007T012049Z
UID:10000256-1654819200-1654819200@aaportugal.org
SUMMARY:Reunião Aberta
DESCRIPTION:
URL:https://aaportugal.org/event/reuniao-aberta-26/
END:VEVENT
BEGIN:VEVENT
DTSTART;TZID=UTC:20220604T000000
DTEND;TZID=UTC:20220604T000000
DTSTAMP:20260424T051013
CREATED:20251007T012049Z
LAST-MODIFIED:20251007T012049Z
UID:10000252-1654300800-1654300800@aaportugal.org
SUMMARY:10º Aniversário do Grupo do Cartaxo
DESCRIPTION:
URL:https://aaportugal.org/event/10o-aniversario-do-grupo-do-cartaxo/
END:VEVENT
BEGIN:VEVENT
DTSTART;TZID=UTC:20220604T000000
DTEND;TZID=UTC:20220604T000000
DTSTAMP:20260424T051013
CREATED:20251007T011848Z
LAST-MODIFIED:20251007T011848Z
UID:10000250-1654300800-1654300800@aaportugal.org
SUMMARY:16º Aniversário do Grupo de Tires
DESCRIPTION:
URL:https://aaportugal.org/event/16o-aniversario-do-grupo-de-tires/
END:VEVENT
BEGIN:VEVENT
DTSTART;TZID=UTC:20220604T000000
DTEND;TZID=UTC:20220604T000000
DTSTAMP:20260424T051013
CREATED:20251007T011848Z
LAST-MODIFIED:20251007T011848Z
UID:10000251-1654300800-1654300800@aaportugal.org
SUMMARY:Gratidão
DESCRIPTION:
URL:https://aaportugal.org/event/gratidao/
END:VEVENT
BEGIN:VEVENT
DTSTART;TZID=UTC:20220525T000000
DTEND;TZID=UTC:20220525T000000
DTSTAMP:20260424T051013
CREATED:20251007T011848Z
LAST-MODIFIED:20251007T011848Z
UID:10000249-1653436800-1653436800@aaportugal.org
SUMMARY:26º Aniversário do Grupo da Avenida do Brasil
DESCRIPTION:
URL:https://aaportugal.org/event/26o-aniversario-do-grupo-da-avenida-do-brasil/
END:VEVENT
BEGIN:VEVENT
DTSTART;TZID=UTC:20220521T000000
DTEND;TZID=UTC:20220521T000000
DTSTAMP:20260424T051013
CREATED:20251007T011848Z
LAST-MODIFIED:20251007T011848Z
UID:10000247-1653091200-1653091200@aaportugal.org
SUMMARY:Jornada sobre Atendimento Telefónico
DESCRIPTION:
URL:https://aaportugal.org/event/jornada-sobre-atendimento-telefonico/
END:VEVENT
BEGIN:VEVENT
DTSTART;TZID=UTC:20220521T000000
DTEND;TZID=UTC:20220521T000000
DTSTAMP:20260424T051013
CREATED:20251007T011848Z
LAST-MODIFIED:20251007T011848Z
UID:10000248-1653091200-1653091200@aaportugal.org
SUMMARY:Atracção / Promoção
DESCRIPTION:
URL:https://aaportugal.org/event/atraccao-promocao/
END:VEVENT
BEGIN:VEVENT
DTSTART;TZID=UTC:20220515T000000
DTEND;TZID=UTC:20220515T000000
DTSTAMP:20260424T051013
CREATED:20251007T011832Z
LAST-MODIFIED:20251007T011832Z
UID:10000246-1652572800-1652572800@aaportugal.org
SUMMARY:29º Aniversário do Grupo de Portimão
DESCRIPTION:
URL:https://aaportugal.org/event/29o-aniversario-do-grupo-de-portimao/
END:VEVENT
BEGIN:VEVENT
DTSTART;TZID=UTC:20220514T000000
DTEND;TZID=UTC:20220514T000000
DTSTAMP:20260424T051013
CREATED:20251007T011832Z
LAST-MODIFIED:20251007T011832Z
UID:10000245-1652486400-1652486400@aaportugal.org
SUMMARY:Jornada de Trabalho sobre Instituições
DESCRIPTION:
URL:https://aaportugal.org/event/jornada-de-trabalho-sobre-instituicoes-2/
END:VEVENT
BEGIN:VEVENT
DTSTART;TZID=UTC:20220507T000000
DTEND;TZID=UTC:20220507T000000
DTSTAMP:20260424T051013
CREATED:20251007T011832Z
LAST-MODIFIED:20251007T011832Z
UID:10000244-1651881600-1651881600@aaportugal.org
SUMMARY:O Medo
DESCRIPTION:
URL:https://aaportugal.org/event/o-medo/
END:VEVENT
BEGIN:VEVENT
DTSTART;TZID=UTC:20220507T000000
DTEND;TZID=UTC:20220507T000000
DTSTAMP:20260424T051013
CREATED:20251007T011832Z
LAST-MODIFIED:20251007T011832Z
UID:10000243-1651881600-1651881600@aaportugal.org
SUMMARY:8º Aniversário do Grupo de Vendas Novas
DESCRIPTION:
URL:https://aaportugal.org/event/8o-aniversario-do-grupo-de-vendas-novas/
END:VEVENT
END:VCALENDAR