BEGIN:VCALENDAR
VERSION:2.0
PRODID:-//Alcoólicos Anónimos Portugal - ECPv6.15.20//NONSGML v1.0//EN
CALSCALE:GREGORIAN
METHOD:PUBLISH
X-ORIGINAL-URL:https://aaportugal.org/en
X-WR-CALDESC:Events for Alcoólicos Anónimos Portugal
REFRESH-INTERVAL;VALUE=DURATION:PT1H
X-Robots-Tag:noindex
X-PUBLISHED-TTL:PT1H
BEGIN:VTIMEZONE
TZID:Europe/Lisbon
BEGIN:DAYLIGHT
TZOFFSETFROM:+0000
TZOFFSETTO:+0100
TZNAME:WEST
DTSTART:20250330T010000
END:DAYLIGHT
BEGIN:STANDARD
TZOFFSETFROM:+0100
TZOFFSETTO:+0000
TZNAME:WET
DTSTART:20251026T010000
END:STANDARD
BEGIN:DAYLIGHT
TZOFFSETFROM:+0000
TZOFFSETTO:+0100
TZNAME:WEST
DTSTART:20260329T010000
END:DAYLIGHT
BEGIN:STANDARD
TZOFFSETFROM:+0100
TZOFFSETTO:+0000
TZNAME:WET
DTSTART:20261025T010000
END:STANDARD
BEGIN:DAYLIGHT
TZOFFSETFROM:+0000
TZOFFSETTO:+0100
TZNAME:WEST
DTSTART:20270328T010000
END:DAYLIGHT
BEGIN:STANDARD
TZOFFSETFROM:+0100
TZOFFSETTO:+0000
TZNAME:WET
DTSTART:20271031T010000
END:STANDARD
END:VTIMEZONE
BEGIN:VEVENT
DTSTART;TZID=Europe/Lisbon:20260426T100000
DTEND;TZID=Europe/Lisbon:20260426T120000
DTSTAMP:20260423T175825
CREATED:20260406T100346Z
LAST-MODIFIED:20260406T100346Z
UID:10000408-1777197600-1777204800@aaportugal.org
SUMMARY:Jornada Aberta de Reflexão da Comissão de IP/HI - Área 5
DESCRIPTION:
URL:https://aaportugal.org/en/event/jornada-aberta-de-reflexao-da-comissao-de-ip-hi-area-5/
LOCATION:Escritório Serviços Área 5\, Travessa António Aleixo\, 10\, cave direita\, Fogueteiro\, 2845-167 Amora\, Portugal
ATTACH;FMTTYPE=application/pdf:https://aaportugal.org/wp-content/uploads/2026/04/Jornada-Comissao-IP-Area-5.pdf
END:VEVENT
BEGIN:VEVENT
DTSTART;TZID=Europe/Lisbon:20260503T190000
DTEND;TZID=Europe/Lisbon:20260503T210000
DTSTAMP:20260423T175825
CREATED:20260415T110911Z
LAST-MODIFIED:20260415T143142Z
UID:10000410-1777834800-1777842000@aaportugal.org
SUMMARY:Reunião Pública Celebração 4º Aniversário "Levar a Mensagem" - Grupo Ponte para a Serenidade
DESCRIPTION:O Grupo Ponte para a Serenidade comemora o seu 4.º Aniversário no dia 2 de maio. \nPara assinalar esta data\, realizaremos uma Reunião Pública com o tema “Levar a Mensagem”\, no dia 3 de maio (domingo)\, entre as 19h00 e as 21h00\, através da plataforma Zoom. \nContaremos com a participação de profissionais de diversas áreas\, bem como de companheiros de AA\, que falarão da sua experiência\, força e esperança neste Programa de Recuperação. \nReunião após reunião\, o Grupo Ponte para a Serenidade tem procurado ser uma ponte — firme e disponível — para todos aqueles que sofrem e desejam parar de beber\, estendendo a mão\, na esperança de um novo dia e de uma nova vida. Juntos\, temos vindo a aprender a viver a Serenidade como uma prática diária\, através dos Doze Passos e do serviço. \nContinuamos a crescer e a levar a mensagem\, graças a todos os que caminham connosco\, a quem deixamos o nosso profundo agradecimento. \nContamos com a presença de todos — companheiros\, familiares e amigos — para celebrarmos juntos esta data tão especial.
URL:https://aaportugal.org/en/event/reuniao-publica-4o-aniversario-levar-a-mensagemm-grupo-ponte-para-a-serenidade/
LOCATION:https://us06web.zoom.us/j/2555969854?pwd=KaaZEDxVrue7M2uqCR0Hr0n0J1dGba.1
ATTACH;FMTTYPE=image/jpeg:https://aaportugal.org/wp-content/uploads/2026/04/4-Aniversario-grupo-PPS-.jpg
END:VEVENT
BEGIN:VEVENT
DTSTART;TZID=Europe/Lisbon:20260508T210000
DTEND;TZID=Europe/Lisbon:20260508T210000
DTSTAMP:20260423T175825
CREATED:20260417T081156Z
LAST-MODIFIED:20260417T081446Z
UID:10000411-1778274000-1778274000@aaportugal.org
SUMMARY:1ª Reunião (fechada) Maratona - Área 5
DESCRIPTION:
URL:https://aaportugal.org/en/event/1a-reuniao-fechada-maratona-area-5/
LOCATION:Escritório Serviços Área 5\, Travessa António Aleixo\, 10\, cave direita\, Fogueteiro\, 2845-167 Amora\, Portugal
ATTACH;FMTTYPE=image/png:https://aaportugal.org/wp-content/uploads/2026/04/1a-reuniao-maratona-area-5.png
END:VEVENT
BEGIN:VEVENT
DTSTART;TZID=Europe/Lisbon:20260509T143000
DTEND;TZID=Europe/Lisbon:20260509T170000
DTSTAMP:20260423T175825
CREATED:20260302T121429Z
LAST-MODIFIED:20260312T102921Z
UID:10000396-1778337000-1778346000@aaportugal.org
SUMMARY:Jornada de Trabalho CNIP - Novas formas e desafios em levar a mensagem
DESCRIPTION:A Comissão Nacional de Informação Pública (CNIP)\, no âmbito do plano de atividades para 2026\, vem informar da realização da Jornada de Trabalho – Novas formas e desafios em levar a mensagem\, no dia 9 Maio\, com início às 14:30h. \nA Jornada decorrerá em formato híbrido\, presencialmente no Escritório de Serviços Gerais\, e através de Zoom.
URL:https://aaportugal.org/en/event/jornada-de-trabalho-cnip-novas-formas-e-desafios-em-levar-a-mensagem/
LOCATION:Híbrido ESG\, Zoom e Escritório de Serviços Gerais\, Praça Dom Miguel I\, 3C\, 2660-310 Santo António dos Cavaleiros\, Portugal
ORGANIZER;CN="CNIP - Comiss%C3%A3o Nacional de Informa%C3%A7%C3%A3o P%C3%BAblica%2C HI%2C CCP":MAILTO:informacaopublica@aaportugal.org
END:VEVENT
BEGIN:VEVENT
DTSTART;TZID=Europe/Lisbon:20260509T170000
DTEND;TZID=Europe/Lisbon:20260509T190000
DTSTAMP:20260423T175825
CREATED:20260421T104658Z
LAST-MODIFIED:20260421T120444Z
UID:10000413-1778346000-1778353200@aaportugal.org
SUMMARY:II Workshop Temático de Serviço “A ÁREA”
DESCRIPTION:Vimos convidar-vos para o II Workshop Temático de Serviço  sobre “A ÁREA”\, a realizar no dia 9 de maio das 17h00 às 19h00. \nEste Workshop tem como objectivo contribuir para um maior conhecimento sobre este âmbito de serviço: \n\nFunções e responsabilidades\nPerfis dos servidores ( Delegados\, Membros de Comité\, responsáveis de Comissões )\nÂmbito de atuação da Área e importância para os Grupos\n\nContamos com a vossa presença e agradecemos a divulgação.
URL:https://aaportugal.org/en/event/workshop-tematico-de-servico-a-area/
LOCATION:https://us02web.zoom.us/j/9332148813?pwd=YWJqVW5GemVvY0xuaGFiNlo3UWIzZz09
ATTACH;FMTTYPE=image/jpeg:https://aaportugal.org/wp-content/uploads/2026/04/Workshop-_A-AREA_.jpg
END:VEVENT
BEGIN:VEVENT
DTSTART;TZID=Europe/Lisbon:20260511T210000
DTEND;TZID=Europe/Lisbon:20260511T230000
DTSTAMP:20260423T175825
CREATED:20260420T114104Z
LAST-MODIFIED:20260420T115735Z
UID:10000412-1778533200-1778540400@aaportugal.org
SUMMARY:Reunião Informação Pública/ 34º Aniversário - Grupo de Setúbal
DESCRIPTION:
URL:https://aaportugal.org/en/event/reuniao-informacao-publica-34o-aniversario-grupo-de-setubal/
LOCATION:Cáritas Diocesana\, Praça Teófilo Braga\, 13\, Setúbal\, 2900-647 Setúbal
ATTACH;FMTTYPE=application/pdf:https://aaportugal.org/wp-content/uploads/2026/04/Cartaz-Reuniao-IP-11_05_2026-Setubal.pdf
END:VEVENT
BEGIN:VEVENT
DTSTART;TZID=Europe/Lisbon:20260517T110000
DTEND;TZID=Europe/Lisbon:20260517T123000
DTSTAMP:20260423T175825
CREATED:20260414T121241Z
LAST-MODIFIED:20260414T121358Z
UID:10000409-1779015600-1779021000@aaportugal.org
SUMMARY:Reunião Aberta/Publica 3⁰ Aniversário - Grupo de Moscavide
DESCRIPTION:
URL:https://aaportugal.org/en/event/reuniao-aberta-publica-3%e2%81%b0-aniversario-grupo-de-moscavide/
LOCATION:Grupo de Moscavide\, Igreja de Sto. António\, Av. de Moscavide 63\, 1885-072 Moscavide\, Portugal
ATTACH;FMTTYPE=application/pdf:https://aaportugal.org/wp-content/uploads/2026/04/Convite-3o-Aniverario-Grupo-de-Moscavide.pdf
END:VEVENT
BEGIN:VEVENT
DTSTART;TZID=Europe/Lisbon:20260613T100000
DTEND;TZID=Europe/Lisbon:20260613T190000
DTSTAMP:20260423T175826
CREATED:20260312T123549Z
LAST-MODIFIED:20260316T043320Z
UID:10000403-1781344800-1781377200@aaportugal.org
SUMMARY:VII Encontro Ibérico Áreas 1 Portugal e Espanha - Viana do Castelo
DESCRIPTION:Terá lugar no dia 13 de junho (sábado)\, em Viana do Castelo\, o VII Encontro Ibérico entre as Áreas 1 de Portugal e de Espanha\, evento que celebra o Dia Mundial de A.A. e o 28º aniversário do Grupo Samaritanos\, de Viana do Castelo. \nEste ano é a Área 1 portuguesa que organiza o evento\, e convidamos todos a participar e a trazerem as vossas famílias e amigos. \nEm anexo podem encontrar todas as informações sobre o mesmo. Se houver alguma dúvida\, entrem por favor em contacto para um dos números de telefone que aparecem no cartaz.
URL:https://aaportugal.org/en/event/vii-encontro-iberico-areas-1-portugal-e-espanha-viana-do-castelo/
LOCATION:Igreja da Sagrada Família\, Estrada de Santa Luzia 6469\, Viana do Castelo\, 4900-926 Viana do Castelo\, Portugal
ATTACH;FMTTYPE=application/pdf:https://aaportugal.org/wp-content/uploads/2026/03/Cartaz_13_JUN_26.pdf
END:VEVENT
BEGIN:VEVENT
DTSTART;TZID=Europe/Lisbon:20260919T143000
DTEND;TZID=Europe/Lisbon:20260919T170000
DTSTAMP:20260423T175826
CREATED:20260302T122020Z
LAST-MODIFIED:20260312T103023Z
UID:10000397-1789828200-1789837200@aaportugal.org
SUMMARY:Jornada de Trabalho CNIP - Serviço de Informação Pública
DESCRIPTION:A Comissão Nacional de Informação Pública (CNIP)\, no âmbito do plano de atividades para 2026\, vem informar da realização da Jornada de Trabalho – Serviço de Informação Pública\, no dia 19 Setembro\, com início às 14:30h. \nA Jornada decorrerá em formato híbrido\, presencialmente no Escritório de Serviços Gerais\, e através de Zoom.
URL:https://aaportugal.org/en/event/jornada-de-trabalho-cnip-servico-de-informacao-publica/
LOCATION:Híbrido ESG\, Zoom e Escritório de Serviços Gerais\, Praça Dom Miguel I\, 3C\, 2660-310 Santo António dos Cavaleiros\, Portugal
ORGANIZER;CN="CNIP - Comiss%C3%A3o Nacional de Informa%C3%A7%C3%A3o P%C3%BAblica%2C HI%2C CCP":MAILTO:informacaopublica@aaportugal.org
END:VEVENT
BEGIN:VEVENT
DTSTART;TZID=Europe/Lisbon:20261024T143000
DTEND;TZID=Europe/Lisbon:20261024T170000
DTSTAMP:20260423T175826
CREATED:20260302T122345Z
LAST-MODIFIED:20260312T103129Z
UID:10000398-1792852200-1792861200@aaportugal.org
SUMMARY:Jornada de Trabalho CNIP - Novas formas e desafios em levar a mensagem
DESCRIPTION:A Comissão Nacional de Informação Pública (CNIP)\, no âmbito do plano de atividades para 2026\, vem informar da realização da Jornada de Trabalho – Novas formas e desafios em levar a mensagem\, no dia 24 Outubro\, com início às 14:30h. \nA Jornada decorrerá em formato híbrido\, presencialmente no Escritório de Serviços Gerais\, e através de Zoom.
URL:https://aaportugal.org/en/event/jornada-de-trabalho-cnip-novas-formas-e-desafios-em-levar-a-mensagem-2/
LOCATION:Híbrido ESG\, Zoom e Escritório de Serviços Gerais\, Praça Dom Miguel I\, 3C\, 2660-310 Santo António dos Cavaleiros\, Portugal
ORGANIZER;CN="CNIP - Comiss%C3%A3o Nacional de Informa%C3%A7%C3%A3o P%C3%BAblica%2C HI%2C CCP":MAILTO:informacaopublica@aaportugal.org
END:VEVENT
END:VCALENDAR